BEGIN:VCALENDAR
VERSION:2.0
PRODID:TU Chemnitz
METHOD:PUBLISH
X-WR-CALNAME:Veranstaltungen der TU Chemnitz
X-WR-TIMEZONE:Europe/Berlin
BEGIN:VEVENT
CLASS:PUBLIC
DTSTART;TZID="Europe/Berlin":20110607T203000
DTEND;TZID="Europe/Berlin":20110607T230000
LOCATION:Club der Kulturen\, Kompass\, Thüringer Weg 3
SUMMARY:Faces of Jazz XXXIX (Club der Kulturen)
DESCRIPTION:Eine gekonnte Mischung aus Bausteinen des europäischen Jazz\, aus der Klassik stammenden Harmonien und Elementen aus Rock und Pop - mitreißend und kreativ!  www.atmospheres-music.de\nAtmospheres\nDr. Thilo Bocklisch\, thbo@hrz.tu-chemnitz.de
ORGANIZER:MAILTO:thilo.bocklisch@etit.tu-chemnitz.de
UID:13352@www.tu-chemnitz.de
CREATED:20110404T130400Z
DTSTAMP:20210802T192719Z
END:VEVENT
END:VCALENDAR
