BEGIN:VCALENDAR
VERSION:2.0
PRODID:TU Chemnitz
METHOD:PUBLISH
X-WR-CALNAME:Veranstaltungen der TU Chemnitz
X-WR-TIMEZONE:Europe/Berlin
BEGIN:VEVENT
CLASS:PUBLIC
DTSTART;TZID="Europe/Berlin":20110327T171500
DTEND;TZID="Europe/Berlin":20110327T171500
LOCATION:Reichenhainer Str. 90\, Chemnitz (Zentr. Hörsaal- und Seminargebäude)
SUMMARY:Physikalisches Kolloquium (Fakultät für Naturwissenschaften\, Institut für Physik)
DESCRIPTION:Thema: "Nuclear safety and materials research with fast neutrons\,positrons and ultra-high intensity lasers "\nProf. Thomas Cowan (Helmholtz-Zentrum Dresden)\nProf. Dr. Michael Hietschold 
ORGANIZER:MAILTO:feige@physik.tu-chemnitz.de
UID:13330@www.tu-chemnitz.de
CREATED:20110331T163100Z
DTSTAMP:20210802T192816Z
END:VEVENT
END:VCALENDAR
