BEGIN:VCALENDAR
VERSION:2.0
PRODID:TU Chemnitz
METHOD:PUBLISH
X-WR-CALNAME:Veranstaltungen der TU Chemnitz
X-WR-TIMEZONE:Europe/Berlin
BEGIN:VEVENT
CLASS:PUBLIC
DTSTART;VALUE=DATE:20110610
DTEND;VALUE=DATE:20110613
LOCATION:Freiberg
SUMMARY:STUBE-Wochenendseminar: New economic models for our world? (Internationales Universitätszentrum)
DESCRIPTION:What is the situation at the moment? Which other ideas do exist?\nSTUBE Sachsen\nhttp://www.infozentrum-dresden.de/stube/
ORGANIZER:MAILTO:patenprogramm@tu-chemnitz.de
UID:13318@www.tu-chemnitz.de
CREATED:20110328T140600Z
DTSTAMP:20210802T192715Z
END:VEVENT
END:VCALENDAR
