BEGIN:VCALENDAR
VERSION:2.0
PRODID:TU Chemnitz
METHOD:PUBLISH
X-WR-CALNAME:Veranstaltungen der TU Chemnitz
X-WR-TIMEZONE:Europe/Berlin
BEGIN:VEVENT
CLASS:PUBLIC
DTSTART;TZID="Europe/Berlin":20110511T190000
DTEND;TZID="Europe/Berlin":20110511T210000
LOCATION:Str. der Nationen 62\, Chemnitz (Altes Heizhaus)
SUMMARY:Lebenslang oder lebenslänglich? - Lernen als Chance und Herausforderung der Wissensgesellschaft (Bildungswerk Dresden der Konrad-Adenauer-Stiftung e.V.)
DESCRIPTION:Veranstaltung der Vortragsreihe "Bildung heute und morgen" des Bildungswerks Dresden der Konrad Adenauer-Stiftung e.V. in Kooperation mit dem Lehrstuhl für Internationale Politik des Instituts für Politikwissenschaft.\nProf. Dr. Sabine Schmidt-Lauff\, Institut für Pädagogik\nsabine.schmidt-lauff@hil.tu-chemnitz.de
ORGANIZER:MAILTO:karla.kebsch@phil.tu-chemnitz.de
UID:13305@www.tu-chemnitz.de
CREATED:20110321T124800Z
DTSTAMP:20210802T192741Z
END:VEVENT
END:VCALENDAR
