BEGIN:VCALENDAR
VERSION:2.0
PRODID:TU Chemnitz
METHOD:PUBLISH
X-WR-CALNAME:Veranstaltungen der TU Chemnitz
X-WR-TIMEZONE:Europe/Berlin
BEGIN:VEVENT
CLASS:PUBLIC
DTSTART;TZID="Europe/Berlin":20110525T150000
DTEND;TZID="Europe/Berlin":20110528T140000
LOCATION:Str. der Nationen 62\, Chemnitz (Altes Heizhaus)
SUMMARY:10th Youth Symposium on Experimental Solid Mechanics (Fakultät für Maschinenbau\, Professur Festkörpermechanik)
DESCRIPTION:Jens Kretzschmar\, 0371/531-37712\, jens.kretzschmar@mb.tu-chemnitz.de
ORGANIZER:MAILTO:jens.kretzschmar@mb.tu-chemnitz.de
UID:13273@www.tu-chemnitz.de
CREATED:20110303T120700Z
DTSTAMP:20210802T192742Z
END:VEVENT
END:VCALENDAR
