BEGIN:VCALENDAR
VERSION:2.0
PRODID:TU Chemnitz
METHOD:PUBLISH
X-WR-CALNAME:Veranstaltungen der TU Chemnitz
X-WR-TIMEZONE:Europe/Berlin
BEGIN:VEVENT
CLASS:PUBLIC
DTSTART;TZID="Europe/Berlin":20001017T173000
DTEND;TZID="Europe/Berlin":20001017T193000
LOCATION:Hotel Sächsischer Hof\, Brühl 26\, 09111 Chemnitz
SUMMARY:49. Mikroelektronik-Stammtisch: Quo vadis Mikroelektronik (Fakultät für Elektrotechnik und Informationstechnik\, Schaltungs- und Systementwurf/ Angewandte Mikroelektronik Chemnitz e.V. (AMEC))
DESCRIPTION:Teilnahme kostenlos\nProf. Rößler\, Thesys Erfurt\nProf. Dr. Dietmar Müller 0371/531-3195\, -3192
ORGANIZER:MAILTO:pejan@hrz.tu-chemnitz.de
UID:1327@www.tu-chemnitz.de
CREATED:20001009T112200Z
DTSTAMP:20210802T202907Z
END:VEVENT
END:VCALENDAR
