BEGIN:VCALENDAR
VERSION:2.0
PRODID:TU Chemnitz
METHOD:PUBLISH
X-WR-CALNAME:Veranstaltungen der TU Chemnitz
X-WR-TIMEZONE:Europe/Berlin
BEGIN:VEVENT
CLASS:PUBLIC
DTSTART;TZID="Europe/Berlin":20001012T190000
DTEND;TZID="Europe/Berlin":20001012T230000
LOCATION:Uni-Teil 3: Reichenhainer Str. 41\, Chemnitz
SUMMARY:MTP Plenum (MTP-Marketing zwischen Theorie und Praxis-)
DESCRIPTION:Vorstellung der Projekte mit Edeka\, adam Möbel und Wirtschaftsjournal.\nWer Lust hat mit zu machen\, kann sich gern informieren.\n\nrene.busch@s1999.tu-chemnitz.de
ORGANIZER:MAILTO:bure@hrz.tu-chemnitz.de
UID:1326@www.tu-chemnitz.de
CREATED:20001009T090100Z
DTSTAMP:20210802T202906Z
END:VEVENT
END:VCALENDAR
