BEGIN:VCALENDAR
VERSION:2.0
PRODID:TU Chemnitz
METHOD:PUBLISH
X-WR-CALNAME:Veranstaltungen der TU Chemnitz
X-WR-TIMEZONE:Europe/Berlin
BEGIN:VEVENT
CLASS:PUBLIC
DTSTART;TZID="Europe/Berlin":20110217T080000
DTEND;TZID="Europe/Berlin":20110217T120000
LOCATION:Str. der Nationen 62\, Chemnitz (Böttcher-Bau)
SUMMARY:Heraeus Seminar IfP (TU Chemnitz\, Institut für Chemie zusammen mit der Gesellschaft Deutscher Chemiker (GDCh))
DESCRIPTION:Prof. Dr. Heinrich Lang\, Tel. (0371) 531-21210 E-Mail: heinrich.lang@chemie.tu-chemnitz.de
ORGANIZER:MAILTO:dunja.grimm@chemie.tu-chemnitz.de
UID:13250@www.tu-chemnitz.de
CREATED:20110217T133300Z
DTSTAMP:20210802T192840Z
END:VEVENT
END:VCALENDAR
