BEGIN:VCALENDAR
VERSION:2.0
PRODID:TU Chemnitz
METHOD:PUBLISH
X-WR-CALNAME:Veranstaltungen der TU Chemnitz
X-WR-TIMEZONE:Europe/Berlin
BEGIN:VEVENT
CLASS:PUBLIC
DTSTART;TZID="Europe/Berlin":20110707T153000
DTEND;TZID="Europe/Berlin":20110707T180000
LOCATION:Str. der Nationen 62\, Chemnitz (Böttcher-Bau)
SUMMARY:GDCh-Vortrag: „Polymere benetzen\, Proteine adsorbieren\, Bakterien kleben\, Geckos laufen an der Decke: Welche Rolle spielt dabei die Art des Untergrunds?” (TU Chemnitz\, Institut für Chemie zusammen mit der Gesellschaft Deutscher Chemiker (GDCh))
DESCRIPTION:Prof. Dr. Karin Jacobs\, Universität des Saarlandes\, Experimentalphysik\nProf. Dr. Heinrich Lang\, Tel. (0371) 531-21210 E-Mail: heinrich.lang@chemie.tu-chemnitz.de
ORGANIZER:MAILTO:dunja.grimm@chemie.tu-chemnitz.de
UID:13249@www.tu-chemnitz.de
CREATED:20110217T133200Z
DTSTAMP:20210802T192659Z
END:VEVENT
END:VCALENDAR
