BEGIN:VCALENDAR
VERSION:2.0
PRODID:TU Chemnitz
METHOD:PUBLISH
X-WR-CALNAME:Veranstaltungen der TU Chemnitz
X-WR-TIMEZONE:Europe/Berlin
BEGIN:VEVENT
CLASS:PUBLIC
DTSTART;TZID="Europe/Berlin":20111014T100000
DTEND;TZID="Europe/Berlin":20111014T160000
LOCATION:Str. der Nationen 62\, Chemnitz (Böttcher-Bau)
SUMMARY:Schüler -Tag (Fakultät für Informatik)
DESCRIPTION:1. Vortrag "Studienmöglichkeiten an der Fakultät für Informatik"2. 3 Parallele Demonstratoren (Robotino\, VR\, Fernsehstudio)3. IOSA (Informatik Online Self Assessment)\nMirko Caspar\, 0371-53135542\, mirko.caspar@cs.tu-chemnitz.de
ORGANIZER:MAILTO:dr.andreas.mueller@informatik.tu-chemnitz.de
UID:13229@www.tu-chemnitz.de
CREATED:20110209T101900Z
DTSTAMP:20210802T192633Z
END:VEVENT
END:VCALENDAR
