BEGIN:VCALENDAR
VERSION:2.0
PRODID:TU Chemnitz
METHOD:PUBLISH
X-WR-CALNAME:Veranstaltungen der TU Chemnitz
X-WR-TIMEZONE:Europe/Berlin
BEGIN:VEVENT
CLASS:PUBLIC
DTSTART;VALUE=DATE:20110401
DTEND;VALUE=DATE:20110403
LOCATION:Bw Dresden-Altstadt an der Zwickauer Straße
SUMMARY:3. Dresdner Dampfloktreffen (Agentur meiSACHSEN mit Beteiligung Future Truck)
DESCRIPTION:Dr. Semm\, 0371 531 12400
ORGANIZER:MAILTO:dr.semm@verwaltung.tu-chemnitz.de
UID:13224@www.tu-chemnitz.de
CREATED:20110202T112800Z
DTSTAMP:20210802T192751Z
END:VEVENT
END:VCALENDAR
