BEGIN:VCALENDAR
VERSION:2.0
PRODID:TU Chemnitz
METHOD:PUBLISH
X-WR-CALNAME:Veranstaltungen der TU Chemnitz
X-WR-TIMEZONE:Europe/Berlin
BEGIN:VEVENT
CLASS:PUBLIC
DTSTART;TZID="Europe/Berlin":19990121T181500
DTEND;TZID="Europe/Berlin":19990121T200000
LOCATION:Uni-Teil 9: Wilhelm-Raabe-Str. 43\, Chemnitz
SUMMARY:Kolloquium: "1848/49 - eine bürgerliche Revolution?" (Philosophische Fakultät\, Geschichte des Mittelalters / Wirtschafts- und Sozialgeschichte)
DESCRIPTION:PD Dr. Dieter Hein (Frankfurt a.M.)
ORGANIZER:MAILTO:nosc@hrz.tu-chemnitz.de
UID:132@www.tu-chemnitz.de
CREATED:19981019T113400Z
DTSTAMP:20210802T203530Z
END:VEVENT
END:VCALENDAR
