BEGIN:VCALENDAR
VERSION:2.0
PRODID:TU Chemnitz
METHOD:PUBLISH
X-WR-CALNAME:Veranstaltungen der TU Chemnitz
X-WR-TIMEZONE:Europe/Berlin
BEGIN:VEVENT
CLASS:PUBLIC
DTSTART;TZID="Europe/Berlin":20110222T173000
DTEND;TZID="Europe/Berlin":20110222T190000
LOCATION:Str. der Nationen 62\, Chemnitz (Altes Heizhaus)
SUMMARY:UNIX-Stammtisch in Sachsen (Universitätsrechenzentrum\, in Kooperation mit der GI-Regionalgruppe Chemnitz)
DESCRIPTION:Thema:  Zimbra - (k)eine Collaboration Suite wie jede andere!?\nHeino Gutschmidt\, managedhosting.de GmbH\, Berlin\nM. Ehrig\, Tel. 531 31525
ORGANIZER:MAILTO:ingrid.muschner@hrz.tu-chemnitz.de
UID:13191@www.tu-chemnitz.de
CREATED:20110127T110000Z
DTSTAMP:20210802T192840Z
END:VEVENT
END:VCALENDAR
