BEGIN:VCALENDAR
VERSION:2.0
PRODID:TU Chemnitz
METHOD:PUBLISH
X-WR-CALNAME:Veranstaltungen der TU Chemnitz
X-WR-TIMEZONE:Europe/Berlin
BEGIN:VEVENT
CLASS:PUBLIC
DTSTART;TZID="Europe/Berlin":20001011T110000
DTEND;TZID="Europe/Berlin":20001011T150000
LOCATION:Uni-Teil 1: Str. der Nationen 62\, Chemnitz (Böttcher-Bau)
SUMMARY:Feierliche Inbetriebnahme des Chemnitzer Linux-Clusters (CLIC) (Universitätsrechenzentrum\, gemeinsam mit dem SFB 393)
DESCRIPTION:Teilnahme mit Einladung\, Interessenten wenden sich bitte an das Sekretariat des URZ\n<BR>\nsiehe Programm\nFrau Flemming\, Tel. 531-1551 urz@tu-chemnitz.de
ORGANIZER:MAILTO:uri@hrz.tu-chemnitz.de
UID:1318@www.tu-chemnitz.de
CREATED:20000929T142700Z
DTSTAMP:20210802T202858Z
END:VEVENT
END:VCALENDAR
