BEGIN:VCALENDAR
VERSION:2.0
PRODID:TU Chemnitz
METHOD:PUBLISH
X-WR-CALNAME:Veranstaltungen der TU Chemnitz
X-WR-TIMEZONE:Europe/Berlin
BEGIN:VEVENT
CLASS:PUBLIC
DTSTART;TZID="Europe/Berlin":20110624T130000
DTEND;TZID="Europe/Berlin":20110624T220000
LOCATION:DAStietz
SUMMARY:Die WISMUT: Uranerzbergbau in Ostdeutschland im Blick der Wissenschaft /Sektion: Wismut-Literatur (Philosophische Fakultät)
DESCRIPTION:Chemnitzer LiteraturwissenschaftlerInnen setzen sich mit dem Thema "Wismut-Literatur" und angrenzenden Fragestellungen auseinander. Die Sektion schließt mit einer Abendlesung von Angela Krauß.\nLeitung: Dr. Michael Ostheimer\nmichael.ostheimer@phil.tu-chemnitz.de
ORGANIZER:MAILTO:karla.kebsch@phil.tu-chemnitz.de
UID:13175@www.tu-chemnitz.de
CREATED:20110120T120700Z
DTSTAMP:20210802T192714Z
END:VEVENT
END:VCALENDAR
