BEGIN:VCALENDAR
VERSION:2.0
PRODID:TU Chemnitz
METHOD:PUBLISH
X-WR-CALNAME:Veranstaltungen der TU Chemnitz
X-WR-TIMEZONE:Europe/Berlin
BEGIN:VEVENT
CLASS:PUBLIC
DTSTART;VALUE=DATE:20110228
DTEND;VALUE=DATE:20110318
LOCATION:Straße der Nationen\, Future Campus
SUMMARY:Mathematik und Technik erleben (Fakultät für Mathematik\, in Zusammenarbeit mit dem Kreativzentrum Mensch-Maschine Mobilität (Professur Arbeitswissenschaften))
DESCRIPTION:Besucher jeden Alters und jeder Vorbildung spielen\, basteln und experimentieren: Sie zerbrechen sich den Kopf bei Knobelspielen\, entdecken an sich selbst den Goldenen Schnitt\, stehen in einer Riesenseifenhaut und vieles mehr.\nfrank.goering@mathematik.tu-chemnitz.de (Tel. 0371/53134124) bzw. veronika.muehlhausen@mb.tu-chemnitz.de (Tel. 0371/53136728)
ORGANIZER:MAILTO:frank.goering@mathematik.tu-chemnitz.de
UID:13171@www.tu-chemnitz.de
CREATED:20110120T082600Z
DTSTAMP:20210802T192839Z
END:VEVENT
END:VCALENDAR
