BEGIN:VCALENDAR
VERSION:2.0
PRODID:TU Chemnitz
METHOD:PUBLISH
X-WR-CALNAME:Veranstaltungen der TU Chemnitz
X-WR-TIMEZONE:Europe/Berlin
BEGIN:VEVENT
CLASS:PUBLIC
DTSTART;TZID="Europe/Berlin":20110125T210000
DTEND;TZID="Europe/Berlin":20110125T235500
LOCATION:Club der Kulturen
SUMMARY: lesbar-special - Märchennacht (Studentenrat\, Referat Kultur)
DESCRIPTION:!Die winterliche Märchennacht !   Kommt zusammen bei Glühwein und literarischen Freuden des Winters!   Es werden vorwiegend winterliche Märchenfilme gezeigt.\nhttp://www.stura.tu-chemnitz.de/referate/kultur/
ORGANIZER:MAILTO:karl.meissner@s2008.tu-chemnitz.de
UID:13162@www.tu-chemnitz.de
CREATED:20110117T232800Z
DTSTAMP:20210802T192849Z
END:VEVENT
END:VCALENDAR
