BEGIN:VCALENDAR
VERSION:2.0
PRODID:TU Chemnitz
METHOD:PUBLISH
X-WR-CALNAME:Veranstaltungen der TU Chemnitz
X-WR-TIMEZONE:Europe/Berlin
BEGIN:VEVENT
CLASS:PUBLIC
DTSTART;VALUE=DATE:20110301
DTEND;VALUE=DATE:20110305
LOCATION:Messe Hannover\, Halle 9\, Stand D04
SUMMARY:Fachmesse CeBIT 2011 (Fakultät für Informatik\, Professuren Datenverwaltungssysteme\, Medieninformatik und Technische Informatik)
DESCRIPTION:Präsentation der Exponate "Sichere Netzwerkkopplung"\, "Intelligente Videoanalyse" und "Plattformunabhängiges Digital Signage System".\nProf. Benn\, 0371 / 531 - 25630\, Dipl.-Inf. Kürsten\, 0371 / 531 - 36764\, Dr. Vodel\, 0371 / 531 - 36499
ORGANIZER:MAILTO:rainer.kittig@verwaltung.tu-chemnitz.de
UID:13161@www.tu-chemnitz.de
CREATED:20110117T165700Z
DTSTAMP:20210802T192816Z
END:VEVENT
END:VCALENDAR
