BEGIN:VCALENDAR
VERSION:2.0
PRODID:TU Chemnitz
METHOD:PUBLISH
X-WR-CALNAME:Veranstaltungen der TU Chemnitz
X-WR-TIMEZONE:Europe/Berlin
BEGIN:VEVENT
CLASS:PUBLIC
DTSTART;VALUE=DATE:20110330
DTEND;VALUE=DATE:20110401
LOCATION:Reichenhainer Str. 90\, Chemnitz (Zentr. Hörsaal- und Seminargebäude)
SUMMARY:Ursprünge der Bilder. Anthropologische Diskurse in der Bildwissenschaft. (Philosophische Fakultät)
DESCRIPTION:Im interdisziplinären Brückenschlag zwischen philosophischer Anthropologie\, Kulturanthropologie\, Paläoanthropologie und Entwicklungspsychologie soll den Fragen nach den Anfängen der Bilder und nach ihrer Rolle für die conditio humana nachgegangen werden.\nLeitung: Prof. Dr. Klaus Sachs-Hombach\, Institut für Medienforschung\nklaus.sachs-hombach@phil.tu-chemnitz.de
ORGANIZER:MAILTO:karla.kebsch@phil.tu-chemnitz.de
UID:13156@www.tu-chemnitz.de
CREATED:20110117T161100Z
DTSTAMP:20210802T192820Z
END:VEVENT
END:VCALENDAR
