BEGIN:VCALENDAR
VERSION:2.0
PRODID:TU Chemnitz
METHOD:PUBLISH
X-WR-CALNAME:Veranstaltungen der TU Chemnitz
X-WR-TIMEZONE:Europe/Berlin
BEGIN:VEVENT
CLASS:PUBLIC
DTSTART;TZID="Europe/Berlin":20110707T190000
DTEND;TZID="Europe/Berlin":20110707T210000
LOCATION:Museum Gunzenhauser/ Falkeplatz - Oberlichtsaal
SUMMARY:Wie altert eine moderne Stadt? (Philosophische Fakultät)
DESCRIPTION:Veranstaltung im Rahmen der Ringvorlesung "Stadt der Moderne".\nProf. Dr. Christine Weiske; Institut für Soziologie der Fakultät für HSW \ndekanat@phil.tu-chemnitz.de
ORGANIZER:MAILTO:karla.kebsch@phil.tu-chemnitz.de
UID:13154@www.tu-chemnitz.de
CREATED:20110117T160200Z
DTSTAMP:20210802T192658Z
END:VEVENT
END:VCALENDAR
