BEGIN:VCALENDAR
VERSION:2.0
PRODID:TU Chemnitz
METHOD:PUBLISH
X-WR-CALNAME:Veranstaltungen der TU Chemnitz
X-WR-TIMEZONE:Europe/Berlin
BEGIN:VEVENT
CLASS:PUBLIC
DTSTART;TZID="Europe/Berlin":20110120T171500
DTEND;TZID="Europe/Berlin":20110120T184500
LOCATION:Reichenhainer Str. 70\, Chemnitz (Weinhold-Bau)
SUMMARY:Aus Chemnitz in die Welt: Zukunftsperspektiven nach dem Studium (Philosophische Fakultät\, Institut für Europastudien)
DESCRIPTION:Europastudien - was ist das und was macht man damit?Zu diesem Thema veranstalten wir eine Podiumsdiskussion bei der sich die Teilnehmer mit der Zukunfstperspektive von Europastudierenden auseinandersetzen werden.\nTorsten Menzel\, Nicole Müller\, Alexander Reinhardt\, Prof. Dr. Stefan Garsztecki\nKristin Sandfort
ORGANIZER:MAILTO:kristin.sandfort@s2009.tu-chemnitz.de
UID:13135@www.tu-chemnitz.de
CREATED:20110116T100800Z
DTSTAMP:20210802T192858Z
END:VEVENT
END:VCALENDAR
