BEGIN:VCALENDAR
VERSION:2.0
PRODID:TU Chemnitz
METHOD:PUBLISH
X-WR-CALNAME:Veranstaltungen der TU Chemnitz
X-WR-TIMEZONE:Europe/Berlin
BEGIN:VEVENT
CLASS:PUBLIC
DTSTART;TZID="Europe/Berlin":20110401T090000
DTEND;TZID="Europe/Berlin":20110401T140000
LOCATION:Str. der Nationen 62\, Chemnitz (Böttcher-Bau)
SUMMARY:Kurs: "Dynamische Web-Dokumente mit PHP"\, (Teil 3) (Universitätsrechenzentrum)
DESCRIPTION:Teil 3: "PHP und MySQL"; Schrittweises Entwickeln und Programmieren eines konkreten Anwendungsbeispiels. Ein anschließendes fakult. Praktikum (1 LE) ist möglich. Dieser Kurs knüpft unmittelbar an den Kurs "Web-Dokumente erstellen" an.\nDr. Wolfgang Riedel\nAnmeldung online oder im Nutzerservice
ORGANIZER:MAILTO:rosita.pudlat@hrz.tu-chemnitz.de
UID:13131@www.tu-chemnitz.de
CREATED:20110113T133800Z
DTSTAMP:20210802T192752Z
END:VEVENT
END:VCALENDAR
