BEGIN:VCALENDAR
VERSION:2.0
PRODID:TU Chemnitz
METHOD:PUBLISH
X-WR-CALNAME:Veranstaltungen der TU Chemnitz
X-WR-TIMEZONE:Europe/Berlin
BEGIN:VEVENT
CLASS:PUBLIC
DTSTART;TZID="Europe/Berlin":20110127T210000
DTEND;TZID="Europe/Berlin":20110127T230000
LOCATION:Kino\, Reichenhainer Str. 35/37\, Keller
SUMMARY:[Campuskino * "mittendrin"] Banksy - Exit Through The Gift Shop (filmclub »mittendrin«)
DESCRIPTION:Banksy spielt virtuos mit den Ebenen Realität und Fiktion\, und schafft eine hintergründige Satire über die Mechanismen von Kunst und Kommerz. Ein anarchistischer Geniestreich!\nfilmclub@tu-chemnitz.de
ORGANIZER:MAILTO:robert.gerstenberger@s2004.tu-chemnitz.de
UID:13128@www.tu-chemnitz.de
CREATED:20110113T121200Z
DTSTAMP:20210802T192854Z
END:VEVENT
END:VCALENDAR
