BEGIN:VCALENDAR
VERSION:2.0
PRODID:TU Chemnitz
METHOD:PUBLISH
X-WR-CALNAME:Veranstaltungen der TU Chemnitz
X-WR-TIMEZONE:Europe/Berlin
BEGIN:VEVENT
CLASS:PUBLIC
DTSTART;TZID="Europe/Berlin":20110118T210000
DTEND;TZID="Europe/Berlin":20110118T230000
LOCATION:Kino\, Reichenhainer Str. 35/37\, Keller
SUMMARY:[Campuskino * "mittendrin"] Was will ich mehr (filmclub »mittendrin«)
DESCRIPTION:Eine leidenschaftliche\, aber aussichtslose Affäre - wirklichkeitsnahe Inszenierung von Silvio Soldini (Brot und Tulpen)\, welche von großartigen Darstellern getragen wird.\nfilmclub@tu-chemnitz.de
ORGANIZER:MAILTO:robert.gerstenberger@s2004.tu-chemnitz.de
UID:13125@www.tu-chemnitz.de
CREATED:20110113T121000Z
DTSTAMP:20210802T192854Z
END:VEVENT
END:VCALENDAR
