BEGIN:VCALENDAR
VERSION:2.0
PRODID:TU Chemnitz
METHOD:PUBLISH
X-WR-CALNAME:Veranstaltungen der TU Chemnitz
X-WR-TIMEZONE:Europe/Berlin
BEGIN:VEVENT
CLASS:PUBLIC
DTSTART;TZID="Europe/Berlin":20110113T210000
DTEND;TZID="Europe/Berlin":20110113T230000
LOCATION:Kino\, Reichenhainer Str. 35/37\, Keller
SUMMARY:[Campuskino * "mittendrin"] Hacker - Porträt einer Gegenkultur (filmclub »mittendrin«)
DESCRIPTION:Helden oder Kriminelle? Fünf Hacker aus unterschiedlichen Generationen gewähren Einblick in digitalen Abgründe und das breite Spektrum dieses Metiers.\nfilmclub@tu-chemnitz.de
ORGANIZER:MAILTO:robert.gerstenberger@s2004.tu-chemnitz.de
UID:13123@www.tu-chemnitz.de
CREATED:20110113T120900Z
DTSTAMP:20210802T192859Z
END:VEVENT
END:VCALENDAR
