BEGIN:VCALENDAR
VERSION:2.0
PRODID:TU Chemnitz
METHOD:PUBLISH
X-WR-CALNAME:Veranstaltungen der TU Chemnitz
X-WR-TIMEZONE:Europe/Berlin
BEGIN:VEVENT
CLASS:PUBLIC
DTSTART;TZID="Europe/Berlin":20110125T190000
DTEND;TZID="Europe/Berlin":20110125T203000
LOCATION:Reichenhainer Str. 90\, Chemnitz (Zentr. Hörsaal- und Seminargebäude)
SUMMARY:Kulturelle Fremdheit und Alterität aus Perspektive der Translationswissenschaft (Philosophische Fakultät\, Interkulturelle Kommunikation)
DESCRIPTION:Prof. Dr. Lothar Cerny (Köln)\nArne Weidemann (arne.weidemann@phil.tu-chemnitz.de)\, Tel. 37017
ORGANIZER:MAILTO:corina.markert@phil.tu-chemnitz.de
UID:13116@www.tu-chemnitz.de
CREATED:20110111T105400Z
DTSTAMP:20210802T192857Z
END:VEVENT
END:VCALENDAR
