BEGIN:VCALENDAR
VERSION:2.0
PRODID:TU Chemnitz
METHOD:PUBLISH
X-WR-CALNAME:Veranstaltungen der TU Chemnitz
X-WR-TIMEZONE:Europe/Berlin
BEGIN:VEVENT
CLASS:PUBLIC
DTSTART;TZID="Europe/Berlin":20110111T090000
DTEND;TZID="Europe/Berlin":20110111T130000
LOCATION:Reichenhainer Str. 90\, Chemnitz (Zentr. Hörsaal- und Seminargebäude)
SUMMARY: Workshop Gesprächsführung (Chemnitz Contact in Kooperation mit der TK Chemnitz)
DESCRIPTION:kostenfrei
ORGANIZER:MAILTO:info@chemnitz-contact.de
UID:13108@www.tu-chemnitz.de
CREATED:20110109T225400Z
DTSTAMP:20210802T192852Z
END:VEVENT
END:VCALENDAR
