BEGIN:VCALENDAR
VERSION:2.0
PRODID:TU Chemnitz
METHOD:PUBLISH
X-WR-CALNAME:Veranstaltungen der TU Chemnitz
X-WR-TIMEZONE:Europe/Berlin
BEGIN:VEVENT
CLASS:PUBLIC
DTSTART;TZID="Europe/Berlin":20110112T190000
DTEND;TZID="Europe/Berlin":20110112T190000
LOCATION:Reichenhainer Str. 70\, Chemnitz (Weinhold-Bau)
SUMMARY: "Der Messeknigge - Tipps für einen erfolgreichen Messebesuch"  (Chemnitz Contact e. V. in Kooperation mit berufsstart.de)
DESCRIPTION:Im Vortrag werden wertvolle Informationen für die fundierte Vorbereitung\, die Optimierung von Gesprächen und die effektive Aufbereitung deiner Bewerbungsunterlagen vermittelt. (1 Woche später "ChemCon2011")\nDipl.-Ing. M.A. Angela Resch \ninfo@chemnitz-contact.de
ORGANIZER:MAILTO:projekt@chemnitz-contact.de
UID:13104@www.tu-chemnitz.de
CREATED:20110107T112900Z
DTSTAMP:20210802T192903Z
END:VEVENT
END:VCALENDAR
