BEGIN:VCALENDAR
VERSION:2.0
PRODID:TU Chemnitz
METHOD:PUBLISH
X-WR-CALNAME:Veranstaltungen der TU Chemnitz
X-WR-TIMEZONE:Europe/Berlin
BEGIN:VEVENT
CLASS:PUBLIC
DTSTART;TZID="Europe/Berlin":19990114T181500
DTEND;TZID="Europe/Berlin":19990114T200000
LOCATION:Uni-Teil 9: Wilhelm-Raabe-Str. 43\, Chemnitz
SUMMARY:Kolloquium: "Der Entwurf des religiösen Selbst. Lebensgeschichte in der Herrenhuter Brüdergemeinde im 19. Jahrhundert" (Philosophische Fakultät\, Geschichte des Mittelalters / Wirtschafts- und Sozialgeschichte)
DESCRIPTION:Dr. Gisela Mettele (Chemnitz)
ORGANIZER:MAILTO:nosc@hrz.tu-chemnitz.de
UID:131@www.tu-chemnitz.de
CREATED:19981019T113200Z
DTSTAMP:20210802T203528Z
END:VEVENT
END:VCALENDAR
