BEGIN:VCALENDAR
VERSION:2.0
PRODID:TU Chemnitz
METHOD:PUBLISH
X-WR-CALNAME:Veranstaltungen der TU Chemnitz
X-WR-TIMEZONE:Europe/Berlin
BEGIN:VEVENT
CLASS:PUBLIC
DTSTART;TZID="Europe/Berlin":20110105T153000
DTEND;TZID="Europe/Berlin":20110105T153000
LOCATION:Reichenhainer Str. 90\, Chemnitz (Zentr. Hörsaal- und Seminargebäude)
SUMMARY:Physikalisches Kolloquium (Fakultät für Naturwissenschaften\, Institut für Physik)
DESCRIPTION:Thema: "Ultraschnelle Quantenoptik\, Spintronik und Plasmonik in Festkörper-Nanosystemen" - Antrittsvorlesung -\nProf. Dr. Rudolf Bratschitsch (Technische Universität Chemnitz)\nProf. Dr. Rudolf Bratschitsch
ORGANIZER:MAILTO:feige@physik.tu-chemnitz.de
UID:13093@www.tu-chemnitz.de
CREATED:20110104T112600Z
DTSTAMP:20210802T192850Z
END:VEVENT
END:VCALENDAR
