BEGIN:VCALENDAR
VERSION:2.0
PRODID:TU Chemnitz
METHOD:PUBLISH
X-WR-CALNAME:Veranstaltungen der TU Chemnitz
X-WR-TIMEZONE:Europe/Berlin
BEGIN:VEVENT
CLASS:PUBLIC
DTSTART;TZID="Europe/Berlin":20110125T171500
DTEND;TZID="Europe/Berlin":20110125T184500
LOCATION:Wilhelm-Raabe-Str. 43\, Chemnitz
SUMMARY:Institutskolloquium Psychologie (Fakultät für Human- und Sozialwissenschaften)
DESCRIPTION:"Publication Biases in der Psychologie - Ursachen\, Methoden\, Evidenz"\nDr. Frank Renkewitz\, Universität Erfurt\nProf. Dr. Rudolph\, Tel. 36394
ORGANIZER:MAILTO:sabine.dittrich@psychologie.tu-chemnitz.de
UID:13091@www.tu-chemnitz.de
CREATED:20110104T104300Z
DTSTAMP:20210802T192858Z
END:VEVENT
END:VCALENDAR
