BEGIN:VCALENDAR
VERSION:2.0
PRODID:TU Chemnitz
METHOD:PUBLISH
X-WR-CALNAME:Veranstaltungen der TU Chemnitz
X-WR-TIMEZONE:Europe/Berlin
BEGIN:VEVENT
CLASS:PUBLIC
DTSTART;TZID="Europe/Berlin":20110407T200000
DTEND;TZID="Europe/Berlin":20110407T220000
LOCATION:Str. der Nationen 62\, Chemnitz (Altes Heizhaus)
SUMMARY:"Es war einmal..." Grimms Märchen und ihre Quellen (Agricola Forum Chemnitz)
DESCRIPTION:Prof. Dr. Heinz Rölleke\nwww.agricolaforum.de
ORGANIZER:MAILTO:stephanie.kraemer@verwaltung.tu-chemnitz.de
UID:13079@www.tu-chemnitz.de
CREATED:20101223T143700Z
DTSTAMP:20210802T192751Z
END:VEVENT
END:VCALENDAR
