BEGIN:VCALENDAR
VERSION:2.0
PRODID:TU Chemnitz
METHOD:PUBLISH
X-WR-CALNAME:Veranstaltungen der TU Chemnitz
X-WR-TIMEZONE:Europe/Berlin
BEGIN:VEVENT
CLASS:PUBLIC
DTSTART;TZID="Europe/Berlin":20111212T153000
DTEND;TZID="Europe/Berlin":20111212T153000
LOCATION:Reichenhainer Str. 90\, Chemnitz (Zentr. Hörsaal- und Seminargebäude)
SUMMARY:Physikalisches Kolloquium (Fakultät für Naturwissenschaften\, Institut für Physik)
DESCRIPTION:Thema: "Strain driven quantum dots and smart tubes for interdisciplinary research "\nProf. Oliver Schmidt (IFW Dresden)\nProf. Dr. Christian von Borczyskowski
ORGANIZER:MAILTO:michael.ludwig@physik.tu-chemnitz.de
UID:13065@www.tu-chemnitz.de
CREATED:20101217T102400Z
DTSTAMP:20210802T192526Z
END:VEVENT
END:VCALENDAR
