BEGIN:VCALENDAR
VERSION:2.0
PRODID:TU Chemnitz
METHOD:PUBLISH
X-WR-CALNAME:Veranstaltungen der TU Chemnitz
X-WR-TIMEZONE:Europe/Berlin
BEGIN:VEVENT
CLASS:PUBLIC
DTSTART;TZID="Europe/Berlin":20111025T100000
DTEND;TZID="Europe/Berlin":20111025T160000
LOCATION:Str. der Nationen 62\, Chemnitz (Böttcher-Bau)
SUMMARY:Geo-Caching „Wo entsteht IT in Chemnitz" (Fakultät für Informatik)
DESCRIPTION:Gemeinschaftsveranstaltung mit dem IT-Bündnis1. Einführung 2. Aufgabenstellung 3. Elektronische Schnitzeljagd durch Chemnitz 4. Technische Auswertung (begrenzte Teilnehmerzahl)\nJens Flohrer\, 0371-53131320\, jens.flohrer@informatik.tu-chemnitz.de
ORGANIZER:MAILTO:dr.andreas.mueller@informatik.tu-chemnitz.de
UID:13055@www.tu-chemnitz.de
CREATED:20101214T150500Z
DTSTAMP:20210802T192625Z
END:VEVENT
END:VCALENDAR
