BEGIN:VCALENDAR
VERSION:2.0
PRODID:TU Chemnitz
METHOD:PUBLISH
X-WR-CALNAME:Veranstaltungen der TU Chemnitz
X-WR-TIMEZONE:Europe/Berlin
BEGIN:VEVENT
CLASS:PUBLIC
DTSTART;TZID="Europe/Berlin":20001024T190000
DTEND;TZID="Europe/Berlin":20001024T210000
LOCATION:Uni-Teil 3: Reichenhainer Str. 70\, Chemnitz (Zentr. Hörsaal- und Seminargebäude)
SUMMARY:Fussball/ s o c c e r als kulturelle Metapher (Philosophische Fakultät\, Professur Anglistische Literaturwissenschaft)
DESCRIPTION:Antrittsvorlesung\nProf. Dr. Werner Huber\nDipl.-Lehr. K. Kebsch/ HA 6382
ORGANIZER:MAILTO:keka@hrz.tu-chemnitz.de
UID:1305@www.tu-chemnitz.de
CREATED:20000918T150400Z
DTSTAMP:20210802T202901Z
END:VEVENT
END:VCALENDAR
