BEGIN:VCALENDAR
VERSION:2.0
PRODID:TU Chemnitz
METHOD:PUBLISH
X-WR-CALNAME:Veranstaltungen der TU Chemnitz
X-WR-TIMEZONE:Europe/Berlin
BEGIN:VEVENT
CLASS:PUBLIC
DTSTART;TZID="Europe/Berlin":20101214T213000
DTEND;TZID="Europe/Berlin":20101215T030000
LOCATION:Vettersstr. 52/54\, Chemnitz (Studentenwohnheim)
SUMMARY:COCKTAILABEND (WindKanal e.V.)
DESCRIPTION:Der letzte Cocktailabend des Jahres 2010 - wie immer in gewohnter Qualität vom Team Windkanal.~ Soundz gibts von DJ Cloudz ~- Eintritt frei\nhttp://www.windkanal-ev.de/
ORGANIZER:MAILTO:windkanal@tu-chemnitz.de
UID:13048@www.tu-chemnitz.de
CREATED:20101214T111300Z
DTSTAMP:20210802T192911Z
END:VEVENT
END:VCALENDAR
