BEGIN:VCALENDAR
VERSION:2.0
PRODID:TU Chemnitz
METHOD:PUBLISH
X-WR-CALNAME:Veranstaltungen der TU Chemnitz
X-WR-TIMEZONE:Europe/Berlin
BEGIN:VEVENT
CLASS:PUBLIC
DTSTART;TZID="Europe/Berlin":20111007T123000
DTEND;TZID="Europe/Berlin":20111007T140000
LOCATION:Str. der Nationen 62\, Chemnitz (Böttcher-Bau)
SUMMARY:E-Learning an der TU Chemnitz (Fakultät für Informatik\, Universitätsrechenzentrum)
DESCRIPTION:1. Einführung Studienorganisation (HIS/QIS)2. Einführung OPAL3. Stundenplan\nFrank Richter\, Veikko Pippig\, Tom Schreiber\nFrank Richter\, 0371-53131879\, frank.richter@hrz.tu-chemnitz.de
ORGANIZER:MAILTO:dr.andreas.mueller@informatik.tu-chemnitz.de
UID:13047@www.tu-chemnitz.de
CREATED:20101214T105800Z
DTSTAMP:20210802T192633Z
END:VEVENT
END:VCALENDAR
