BEGIN:VCALENDAR
VERSION:2.0
PRODID:TU Chemnitz
METHOD:PUBLISH
X-WR-CALNAME:Veranstaltungen der TU Chemnitz
X-WR-TIMEZONE:Europe/Berlin
BEGIN:VEVENT
CLASS:PUBLIC
DTSTART;VALUE=DATE:20110414
DTEND;VALUE=DATE:20110414
LOCATION:Future Campus\, Straße der Nationen 62
SUMMARY:UNI erleben - Projekttag für die Oberstufe (Fakultät für Maschinenbau)
DESCRIPTION:Schüler haben im Rahmen des Projekttages die Möglichkeit\, die Forschung an der Fakultät Maschinenbau kennen zu lernen und die Inhalte des Berufsfeldes einer Ingenieurin bzw. eines Ingenieurs zu erfahren.\nStev Glöckner\, 0371 531 36640\, stev.gloeckner@mb.tu-chemnitz.de
ORGANIZER:MAILTO:stev.gloeckner@mb.tu-chemnitz.de
UID:13045@www.tu-chemnitz.de
CREATED:20101213T175200Z
DTSTAMP:20210802T192748Z
END:VEVENT
END:VCALENDAR
