BEGIN:VCALENDAR
VERSION:2.0
PRODID:TU Chemnitz
METHOD:PUBLISH
X-WR-CALNAME:Veranstaltungen der TU Chemnitz
X-WR-TIMEZONE:Europe/Berlin
BEGIN:VEVENT
CLASS:PUBLIC
DTSTART;TZID="Europe/Berlin":20100323T090000
DTEND;TZID="Europe/Berlin":20100325T170000
LOCATION:Reichenhainer Str. 90\, Chemnitz (Zentr. Hörsaal- und Seminargebäude)
SUMMARY:GfA-Frühjahrskongress (Fakultät für Maschinenbau\, Professur Arbeitswissenschaft)
DESCRIPTION:Der 57. Frühjahrskongress der Gesellschaft für Arbeitswissenschaft steht unter dem Motto „Mensch\, Technik\, Organisation–Vernetzung im Produktentstehungs- und -herstellungsprozess“. Der Kongress diskutiert die Herausforderungen von MTO in der  Arbeitswelt.\nStev Glöckner\, 0371 531 36640\, stev.gloeckner@mb.tu-chemnitz.de
ORGANIZER:MAILTO:stev.gloeckner@mb.tu-chemnitz.de
UID:13040@www.tu-chemnitz.de
CREATED:20101213T165300Z
DTSTAMP:20210802T193326Z
END:VEVENT
END:VCALENDAR
