BEGIN:VCALENDAR
VERSION:2.0
PRODID:TU Chemnitz
METHOD:PUBLISH
X-WR-CALNAME:Veranstaltungen der TU Chemnitz
X-WR-TIMEZONE:Europe/Berlin
BEGIN:VEVENT
CLASS:PUBLIC
DTSTART;TZID="Europe/Berlin":20101216T143000
DTEND;TZID="Europe/Berlin":20101216T143000
LOCATION:Erfenschlager Str. 73\, Chemnitz
SUMMARY:Promotion (Fakultät für Maschinenbau)
DESCRIPTION:Modellierung des statischen und dynamischen Materialverhaltens langfaserverstärkter Kunststoffe\nDipl.-Ing. Michael Mayer\nkerstin.hensel@mb.tu-chemnitz.de
ORGANIZER:MAILTO:kerstin.hensel@mb.tu-chemnitz.de
UID:13039@www.tu-chemnitz.de
CREATED:20101213T135100Z
DTSTAMP:20210802T192917Z
END:VEVENT
END:VCALENDAR
