BEGIN:VCALENDAR
VERSION:2.0
PRODID:TU Chemnitz
METHOD:PUBLISH
X-WR-CALNAME:Veranstaltungen der TU Chemnitz
X-WR-TIMEZONE:Europe/Berlin
BEGIN:VEVENT
CLASS:PUBLIC
DTSTART;TZID="Europe/Berlin":20110119T190000
DTEND;TZID="Europe/Berlin":20110119T213000
LOCATION:Reichenhainer Str. 90\, Chemnitz (Zentr. Hörsaal- und Seminargebäude)
SUMMARY:Pädagogische Liebe (Philosophische Fakultät)
DESCRIPTION:Antrittsvorlesung der Professur Erziehungswissenschaft am Institut für Pädagogik der Philosophischen Fakultät.Die Veranstaltung ist öffentlich - Interessierte sind herzlich eingeladen!\nProf. Dr. Robert Kreitz\, TU Chemnitz\nrobert.kreitz@phil.tu-chemnitz.de; karla.kebsch@phil.tu-chemnitz.de
ORGANIZER:MAILTO:karla.kebsch@phil.tu-chemnitz.de
UID:13035@www.tu-chemnitz.de
CREATED:20101213T094400Z
DTSTAMP:20210802T192856Z
END:VEVENT
END:VCALENDAR
