BEGIN:VCALENDAR
VERSION:2.0
PRODID:TU Chemnitz
METHOD:PUBLISH
X-WR-CALNAME:Veranstaltungen der TU Chemnitz
X-WR-TIMEZONE:Europe/Berlin
BEGIN:VEVENT
CLASS:PUBLIC
DTSTART;TZID="Europe/Berlin":20110904T100000
DTEND;TZID="Europe/Berlin":20110904T140000
LOCATION:Uniteil Erfenschlag - METEOR und EDF
SUMMARY:Campus-Frühschoppen "Hopfen meets Hightech" (TU Chemnitz)
DESCRIPTION:Marketing/Öffentlichkeitsarbeit\, Tel.: 0371-531 11111
ORGANIZER:MAILTO:stephanie.kraemer@verwaltung.tu-chemnitz.de
UID:13017@www.tu-chemnitz.de
CREATED:20101206T094700Z
DTSTAMP:20210802T192647Z
END:VEVENT
END:VCALENDAR
