BEGIN:VCALENDAR
VERSION:2.0
PRODID:TU Chemnitz
METHOD:PUBLISH
X-WR-CALNAME:Veranstaltungen der TU Chemnitz
X-WR-TIMEZONE:Europe/Berlin
BEGIN:VEVENT
CLASS:PUBLIC
DTSTART;TZID="Europe/Berlin":20110910T100000
DTEND;TZID="Europe/Berlin":20110910T130000
LOCATION:Str. der Nationen 62\, Chemnitz (Altes Heizhaus)
SUMMARY:5 vor 12 - Studienberatung für Spätentschlossene (TU Chemnitz)
DESCRIPTION:Marketing/Öffentlichkeitsarbeit\, Tel.: 0371-531 11111
ORGANIZER:MAILTO:stephanie.kraemer@verwaltung.tu-chemnitz.de
UID:13013@www.tu-chemnitz.de
CREATED:20101206T093800Z
DTSTAMP:20210802T192644Z
END:VEVENT
END:VCALENDAR
