BEGIN:VCALENDAR
VERSION:2.0
PRODID:TU Chemnitz
METHOD:PUBLISH
X-WR-CALNAME:Veranstaltungen der TU Chemnitz
X-WR-TIMEZONE:Europe/Berlin
BEGIN:VEVENT
CLASS:PUBLIC
DTSTART;VALUE=DATE:20110414
DTEND;VALUE=DATE:20110414
LOCATION:Campus TU Chemnitz
SUMMARY:Girls' Day (TU Chemnitz)
DESCRIPTION:Marketing/Öffentlichkeitsarbeit\, Tel.: 0371-531 11111
ORGANIZER:MAILTO:stephanie.kraemer@verwaltung.tu-chemnitz.de
UID:13008@www.tu-chemnitz.de
CREATED:20101206T093400Z
DTSTAMP:20210802T192752Z
END:VEVENT
END:VCALENDAR
