BEGIN:VCALENDAR
VERSION:2.0
PRODID:TU Chemnitz
METHOD:PUBLISH
X-WR-CALNAME:Veranstaltungen der TU Chemnitz
X-WR-TIMEZONE:Europe/Berlin
BEGIN:VEVENT
CLASS:PUBLIC
DTSTART;TZID="Europe/Berlin":20101130T190000
DTEND;TZID="Europe/Berlin":20101130T210000
LOCATION:Reichenhainer Str. 70\, Chemnitz (Rühlmann-Bau)
SUMMARY:Veranstaltung: Faschismus gibt es\, Extremismus gibt es nicht (Rote Hochschulgruppe Chemnitz)
DESCRIPTION:Faschismus gibt es. Hier und heute. Bei uns und bei unseren Nachbarn. Faschismus gibt es auch deshalb\, weil es „Extremismus“ nicht gibt. Lenken die vom Verfassungsschutz und seinen offiziellen und inoffiziellen Mitarbeitern verbreiteten Extremismus-Leg...\nProf. Dr. Wolfgang Wippermann\nrhg@hush.com
ORGANIZER:MAILTO:thomas.rohde@s2000.tu-chemnitz.de
UID:12987@www.tu-chemnitz.de
CREATED:20101126T153600Z
DTSTAMP:20210802T192941Z
END:VEVENT
END:VCALENDAR
