BEGIN:VCALENDAR
VERSION:2.0
PRODID:TU Chemnitz
METHOD:PUBLISH
X-WR-CALNAME:Veranstaltungen der TU Chemnitz
X-WR-TIMEZONE:Europe/Berlin
BEGIN:VEVENT
CLASS:PUBLIC
DTSTART;TZID="Europe/Berlin":20101215T190000
DTEND;TZID="Europe/Berlin":20101215T203000
LOCATION:Reichenhainer Str. 90\, Chemnitz (Zentr. Hörsaal- und Seminargebäude)
SUMMARY:Technisches Übersetzen – Einblicke in Theorie und Praxis (Philosophische Fakultät\, Angewandte Sprachwissenschaft/Technikkommunikation)
DESCRIPTION:Technische Texte verlangen vom Übersetzer ein spezifisches Sach- und Fachwissen\,  wobei Terminologie  eine  wichtige  Rolle  spielt. Betrachtet werden Spezifika Technischen Übersetzens anhand von Beispielen aus der Praxis.\nDinah Krenzler-Behm (Liz. Phil.\, Universität Tampere\, Finnland)\nDr. Sonja Ruda\, sonja.ruda@phil.tu-chemnitz.de
ORGANIZER:MAILTO:sonja.ruda@phil.tu-chemnitz.de
UID:12980@www.tu-chemnitz.de
CREATED:20101124T104400Z
DTSTAMP:20210802T192911Z
END:VEVENT
END:VCALENDAR
