BEGIN:VCALENDAR
VERSION:2.0
PRODID:TU Chemnitz
METHOD:PUBLISH
X-WR-CALNAME:Veranstaltungen der TU Chemnitz
X-WR-TIMEZONE:Europe/Berlin
BEGIN:VEVENT
CLASS:PUBLIC
DTSTART;TZID="Europe/Berlin":20101118T190000
DTEND;TZID="Europe/Berlin":20101118T203000
LOCATION:Reichenhainer Straße 70\, C104
SUMMARY:Börsenführerschein Teil II (Studentischer Börsenverein Chemnitz/ Mittweida e.V. & BVH)
DESCRIPTION:Aktien\, Renten und Fonds: * Was für Aktiengattungen gibt es? Rechte\, Pflichten und Risiken* Was macht Anleihen aus? Wie funktionieren sie? Wie unterscheiden sie sich?* Verschiedene Fondsarten\, Ratings\, Gebühren und tatsächliche Renditen\nRobby Thiele\, TU-Chemnitz\nhttp://boersenverein.in-chemnitz.de/verein/
ORGANIZER:MAILTO:dario.koenig@s2007.tu-chemnitz.de
UID:12952@www.tu-chemnitz.de
CREATED:20101115T163100Z
DTSTAMP:20210802T192951Z
END:VEVENT
END:VCALENDAR
