BEGIN:VCALENDAR
VERSION:2.0
PRODID:TU Chemnitz
METHOD:PUBLISH
X-WR-CALNAME:Veranstaltungen der TU Chemnitz
X-WR-TIMEZONE:Europe/Berlin
BEGIN:VEVENT
CLASS:PUBLIC
DTSTART;TZID="Europe/Berlin":20101124T130000
DTEND;TZID="Europe/Berlin":20101124T170000
LOCATION:Str. der Nationen 62\, Chemnitz (Böttcher-Bau)
SUMMARY:Kurs: "Mathematica 8" (Universitätsrechenzentrum)
DESCRIPTION:Was versteht man unter "Mathematica" ? Was kann die angekündigte Version 8? Beispiele zeigen Ihnen die Möglichkeiten von "Mathematica 8" auf.\nGregor Kult\, Fa. ADDITIVE GmbH \nAnmeldung online oder im Nutzerservice
ORGANIZER:MAILTO:rosita.pudlat@hrz.tu-chemnitz.de
UID:12941@www.tu-chemnitz.de
CREATED:20101112T103700Z
DTSTAMP:20210802T192951Z
END:VEVENT
END:VCALENDAR
