BEGIN:VCALENDAR
VERSION:2.0
PRODID:TU Chemnitz
METHOD:PUBLISH
X-WR-CALNAME:Veranstaltungen der TU Chemnitz
X-WR-TIMEZONE:Europe/Berlin
BEGIN:VEVENT
CLASS:PUBLIC
DTSTART;TZID="Europe/Berlin":20101115T170000
DTEND;TZID="Europe/Berlin":20101115T180000
LOCATION:Hörsaal 1/232
SUMMARY:Lehrprobe der Bewerber im Rahmen des Berufungsverfahrens Juniorprofessur Supramolekulare Chemie Thema: "Stereoselektive Diels-Alder-Reaktionen" (Fakultät für Naturwissenschaften\, Institut für Chemie)
DESCRIPTION:Dr. Siegfried Eigler (DIC GmbH\, Berlin) und Dr. Evgeny A. Katayev (Universität Regensburg)\nProf. Dr. Klaus Banert\, 531 31463\, klaus.banert@chemie.tu-chemnitz.de
ORGANIZER:MAILTO:mandy.gruner@chemie.tu-chemnitz.de
UID:12931@www.tu-chemnitz.de
CREATED:20101110T094500Z
DTSTAMP:20210802T192953Z
END:VEVENT
END:VCALENDAR
