BEGIN:VCALENDAR
VERSION:2.0
PRODID:TU Chemnitz
METHOD:PUBLISH
X-WR-CALNAME:Veranstaltungen der TU Chemnitz
X-WR-TIMEZONE:Europe/Berlin
BEGIN:VEVENT
CLASS:PUBLIC
DTSTART;TZID="Europe/Berlin":20101119T150000
DTEND;TZID="Europe/Berlin":20101119T160000
LOCATION:Hörsaal 1/232
SUMMARY:Vortrag im Rahmen des Berufungsverfahrens Juniorprofessur Supramolekulare Chemie Thema: "From Organic to Supramolecular Chemistry in Recognition of DNA Structures" (Fakultät für Naturwissenschaften\, Institut für Chemie)
DESCRIPTION:Dr. Anton Granzhan\, EPFEL Lausanne\, Schweiz\nProf. Dr. Klaus Banert\, 531 31463\, klaus.banert@chemie.tu-chemnitz.de
ORGANIZER:MAILTO:mandy.gruner@chemie.tu-chemnitz.de
UID:12930@www.tu-chemnitz.de
CREATED:20101110T094200Z
DTSTAMP:20210802T192946Z
END:VEVENT
END:VCALENDAR
